BEGIN:VCALENDAR
VERSION:2.0
PRODID:-//ChamberMaster//Event Calendar 2.0//EN
METHOD:PUBLISH
X-PUBLISHED-TTL:P3D
REFRESH-INTERVAL:P3D
CALSCALE:GREGORIAN
BEGIN:VEVENT
DTSTART:20170527T150000Z
DTEND:20170527T200000Z
X-MICROSOFT-CDO-ALLDAYEVENT:FALSE
SUMMARY:Trunk Sale
DESCRIPTION:Mark your calendars! Evergreen Christian Outreach (EChO) will be holding a Trunk Sale for crafts on Saturday\, May 27th in the EChO Resale parking lot at the Evergreen North Shopping Center. You bring your car and table of crafts (yarn\, beads\, fabrics\, homemade crafts) to sell\, we provide the space\, balloons\, advertising and promotion.
X-ALT-DESC;FMTTYPE=text/html:<span style="color:rgb(29\, 33\, 41)\; font-family:helvetica\,arial\,sans-serif\; font-size:14px">Mark your calendars! Evergreen Christian Outreach (EChO) will be holding a Trunk Sale for crafts on Saturday\, May 27th in the EChO Resale parking lot at the Evergreen North Shopping Center. You bring your car and table of crafts (yarn\, beads\, fabrics\, homemade crafts) to sell\, we provide the space\, balloons\, advertising and promotion.&nbsp\;</span>
LOCATION:3763 N Evergreen Parkway\, Evergreen\, CO 80439 Parking lot outside of EChO Resale
UID:e.692.22388
SEQUENCE:3
DTSTAMP:20260425T040529Z
URL:http://goconifer.chambermaster.com/events/details/trunk-sale-22388
END:VEVENT

END:VCALENDAR
