BEGIN:VCALENDAR
VERSION:2.0
PRODID:-//ChamberMaster//Event Calendar 2.0//EN
METHOD:PUBLISH
X-PUBLISHED-TTL:P3D
REFRESH-INTERVAL:P3D
CALSCALE:GREGORIAN
BEGIN:VEVENT
DTSTART:20210708T233000Z
DTEND:20210709T010000Z
X-MICROSOFT-CDO-ALLDAYEVENT:FALSE
SUMMARY:Painting With The Plants
DESCRIPTION:Learn local and medicinal plants and paint as you are guided by their wisdom and teachings.\n\n\n\n\n\n\n\n\nCome experience teachings I have been taught by my herbal elders in this one of a kind experience. Learn local and medicinal plants and paint as you are guided by their wisdom and teachings. We will be meeting in the Alderfer Three Sisters Park upper parking lot. All materials provided.
X-ALT-DESC;FMTTYPE=text/html:<div>\n<div>\n<div>\n<div><strong>Learn local and medicinal plants and paint as you are guided by their wisdom and teachings.</strong></div>\n</div>\n</div>\n</div>\n\n<div>\n<div>\n<div>\n<div>\n<p>Come experience teachings I have been taught by my herbal elders in&nbsp\;<span style="color:rgb(111\, 114\, 135)\; font-family:neue plak\,-apple-system\,blinkmacsystemfont\,roboto\,helvetica neue\,helvetica\,tahoma\,arial\,sans-serif\; font-size:16px">this one of a kind experience. Learn local and medicinal plants and paint as you are guided by their wisdom and teachings. We will be meeting in the Alderfer Three Sisters Park upper parking lot. All materials provided.</span></p>\n</div>\n</div>\n</div>\n</div>\n
LOCATION:Alderfer/Three Sisters Park Alderfer Ranch Parking Lot 5150-5198 South Le Masters Road Evergreen\, CO 80439
UID:e.692.32878
SEQUENCE:3
DTSTAMP:20260421T072108Z
URL:http://goconifer.chambermaster.com/events/details/painting-with-the-plan-32878
END:VEVENT

END:VCALENDAR
