BEGIN:VCALENDAR
VERSION:2.0
PRODID:-//ChamberMaster//Event Calendar 2.0//EN
METHOD:PUBLISH
X-PUBLISHED-TTL:P3D
REFRESH-INTERVAL:P3D
CALSCALE:GREGORIAN
BEGIN:VEVENT
DTSTART:20170508T220000Z
DTEND:20170508T233000Z
X-MICROSOFT-CDO-ALLDAYEVENT:FALSE
SUMMARY:Long Term Care - What is your exit Strategy
DESCRIPTION:Presented by Aging Wisely in the Foothills (a subgroup of Power Partners).\n\nDo you have a written plan for an extended care event in your life? Join us to learn how to protect your family and assets from the devisating effect of a long term care event.
X-ALT-DESC;FMTTYPE=text/html:Presented by Aging Wisely in the Foothills (a subgroup of Power Partners).<br />\nDo you have a written plan for an extended care event in your life? Join us to learn how to protect your family and assets from the devisating effect of a long term care event.
LOCATION:Conifer Community Church 9998 Havekost Rd Conifer\, CO
UID:e.692.22385
SEQUENCE:3
DTSTAMP:20260423T161145Z
URL:http://goconifer.chambermaster.com/events/details/long-term-care-what-is-your-exit-strategy-22385
END:VEVENT

END:VCALENDAR
