BEGIN:VCALENDAR
VERSION:2.0
PRODID:-//ChamberMaster//Event Calendar 2.0//EN
METHOD:PUBLISH
X-PUBLISHED-TTL:P3D
REFRESH-INTERVAL:P3D
CALSCALE:GREGORIAN
BEGIN:VEVENT
DTSTART:20171028T160000Z
DTEND:20171028T210000Z
X-MICROSOFT-CDO-ALLDAYEVENT:FALSE
SUMMARY:Interpreter's Table: Secrets of Bats!
DESCRIPTION:Visitor Programs and Hikes!\n\nFree with Park Pass\n\n(All Hikes begin at the Ranch Hand Group Picnic Area)\n\n\n\nSaturday Oct 28 & 29 10am-3pm \n\nInterpreter?s Table: Secrets of Bats!\n\nThink bats are scary? Then you don?t know bats! Come find out how these interesting and intelligent creatures actually help humans!\n\n\n\nWhile you're visiting on Saturday\, do a little hiking and trick or treating too!\n\nSaturday Oct 28 11am-2pm\n\nHalloween!! HIKE OR TREAT\n\nDress up in your favorite costume and come hike Davis Ranch trail and gather up some candy and meet the creatures of the forest!!!
X-ALT-DESC;FMTTYPE=text/html:<div style="text-align:center"><span style="color:red"><span style="font-size:1.4em">Visitor Programs and Hikes!</span><br>\nFree with Park Pass<br>\n(All Hikes begin at the Ranch Hand Group Picnic Area)</span><br>\n<br>\n<strong><strong><span style="color:darkred">Saturday Oct 28 &amp\; 29 10am-3pm </span><br>\n<span style="color:green">Interpreter?s Table: Secrets of Bats!</span></strong><br>\nThink bats are scary? Then you don?t know bats! Come find out how these interesting and intelligent creatures actually help humans!<br>\n<br>\nWhile you're visiting on Saturday\, do a little hiking and trick or treating too!<br>\n<span style="color:darkred">Saturday Oct 28 11am-2pm</span><br>\n<span style="font-size:1.4em"><span style="color:orange">Halloween!! HIKE OR TREAT</span></span><br>\nDress up in your favorite costume and come hike Davis Ranch trail and gather up some candy and meet the creatures of the forest!!!</strong><br>\n&nbsp\;</div>\n
LOCATION:Staunton State Park\, 12102 S Elk Creek Rd\, Pine CO 80470
UID:e.692.24573
SEQUENCE:3
DTSTAMP:20260421T002840Z
URL:http://goconifer.chambermaster.com/events/details/interpreter-s-table-secrets-of-bats-24573
END:VEVENT

END:VCALENDAR
