BEGIN:VCALENDAR
VERSION:2.0
PRODID:-//ChamberMaster//Event Calendar 2.0//EN
METHOD:PUBLISH
X-PUBLISHED-TTL:P3D
REFRESH-INTERVAL:P3D
CALSCALE:GREGORIAN
BEGIN:VEVENT
DTSTART:20171008T160000Z
DTEND:20171008T200000Z
X-MICROSOFT-CDO-ALLDAYEVENT:FALSE
SUMMARY:Interpreter's Table: Owls
DESCRIPTION:Visitor Programs and Hikes!\n\nFree with Park Pass\n\n(All Hikes begin at the Ranch Hand Group Picnic Area)\n\n\n\nSunday Sept 8 10am-2pm\n\nInterpreter's Table: Owls\n\nLearn WHOO is at the top of the food chain! Sift through owl pellets to see what last night's dinner was...find out what makes owls silent flyers and much much more!!!
X-ALT-DESC;FMTTYPE=text/html:<div style="text-align:center"><span style="color:red"><span style="font-size:1.4em">Visitor Programs and Hikes!</span><br />\nFree with Park Pass<br />\n(All Hikes begin at the Ranch Hand Group Picnic Area)</span><br />\n<br />\n<strong><span style="color:darkred">Sunday Sept 8 10am-2pm</span><br />\n<span style="color:green">Interpreter&rsquo\;s Table: Owls</span></strong><br />\nLearn WHOO is at the top of the food chain! Sift through owl pellets to see what last night&rsquo\;s dinner was...find out what makes owls silent flyers and much much more!!!</div>\n
LOCATION:Staunton State Park\, 12102 S Elk Creek Rd\, Pine CO 80470
UID:e.692.24569
SEQUENCE:3
DTSTAMP:20260419T132339Z
URL:http://goconifer.chambermaster.com/events/details/interpreter-s-table-owls-24569
END:VEVENT

END:VCALENDAR
