BEGIN:VCALENDAR
VERSION:2.0
PRODID:-//ChamberMaster//Event Calendar 2.0//EN
METHOD:PUBLISH
X-PUBLISHED-TTL:P3D
REFRESH-INTERVAL:P3D
CALSCALE:GREGORIAN
BEGIN:VEVENT
DTSTART:20171022T160000Z
DTEND:20171022T210000Z
X-MICROSOFT-CDO-ALLDAYEVENT:FALSE
SUMMARY:Interpreter's Table: Leaf Peeping
DESCRIPTION:Visitor Programs and Hikes!\n\nFree with Park Pass\n\n(All Hikes begin at the Ranch Hand Group Picnic Area)\n\n\n\nSaturday Oct 21 & 22 10am-3pm\n\nInterpreter's Table: Leaf Peeping\n\nThe leaves are changing and the mountains look amazing. Come visit and learn why and how leaves change their colors in the fall!
X-ALT-DESC;FMTTYPE=text/html:<div style="text-align:center">\n<div style="text-align:center"><span style="color:red"><span style="font-size:1.4em">Visitor Programs and Hikes!</span><br />\nFree with Park Pass<br />\n(All Hikes begin at the Ranch Hand Group Picnic Area)</span><br />\n<br />\n<strong><span style="color:darkred">Saturday Oct 21 &amp\; 22 10am-3pm</span><br />\n<span style="color:green">Interpreter&rsquo\;s Table: Leaf Peeping</span></strong><br />\nThe leaves are changing and the mountains look amazing. Come visit and learn why and how leaves change their colors in the fall!<br />\n&nbsp\;</div>\n</div>\n
LOCATION:Staunton State Park\, 12102 S Elk Creek Rd\, Pine CO 80470
UID:e.692.24571
SEQUENCE:3
DTSTAMP:20260420T141137Z
URL:http://goconifer.chambermaster.com/events/details/interpreter-s-table-leaf-peeping-10-22-2017-24571
END:VEVENT

END:VCALENDAR
