BEGIN:VCALENDAR
VERSION:2.0
PRODID:-//ChamberMaster//Event Calendar 2.0//EN
METHOD:PUBLISH
X-PUBLISHED-TTL:P3D
REFRESH-INTERVAL:P3D
CALSCALE:GREGORIAN
BEGIN:VEVENT
DTSTART:20170414T233000Z
DTEND:20170415T001500Z
X-MICROSOFT-CDO-ALLDAYEVENT:FALSE
SUMMARY:EPRD's Annual Easter Egg Hunt
DESCRIPTION:Evergreen Park & Recreation District's annual Easter Egg Hunt will be held in the Buchanan Park Recreation Center Pool on Friday\, April 14\, starting at 5:30 pm. Parents are encouraged to dress the kids in their swimsuits\, grab their goggles and a plastic bag\, and come have fun and collect Easter treats! The Easter Bunny will be on hand to pose for photos with kids.\n\n\n\nDATE: Friday\, April 14\n\n\n\nTIMES :\n\n5:30-5:45 pm - Ages 1-3\n\n5:45-6 pm - Ages 4-6\n\n6-6:15 - Ages 7 and over\n\n\n\nCOST: Free\n\n\n\nWear swimsuits and bring goggles if needed. Bring a plastic bag to collect eggs\, which your child can exchange for candy! Kids who find a coin in their egg win a special prize! Parents much accompany children age 6 and under in pool.\n\n\n\nLearn more by calling Buchanan Park Rec Center\, 720-880-1100.
X-ALT-DESC;FMTTYPE=text/html:<span style="color:rgb(75\, 79\, 86)\; font-family:san francisco\,-apple-system\,system-ui\,.sfnstext-regular\,sans-serif\; font-size:14px">Evergreen Park &amp\; Recreation District&rsquo\;s annual Easter Egg Hunt will be held in the Buchanan Park Recreation Center Pool on Friday\, April 14\, starting at 5:30 pm. Parents are encouraged to dress the kids in their swimsuits\, grab their goggles and a plastic bag\, and come have fun and collect Easter treats! The Easter Bunny will be on hand to pose for photos with kids.</span><br />\n<br />\n<span style="color:rgb(75\, 79\, 86)\; font-family:san francisco\,-apple-system\,system-ui\,.sfnstext-regular\,sans-serif\; font-size:14px">DATE: Friday\, April 14</span><br />\n<br />\n<span style="color:rgb(75\, 79\, 86)\; font-family:san francisco\,-apple-system\,system-ui\,.sfnstext-regular\,sans-serif\; font-size:14px">TIMES :</span><br />\n<span style="color:rgb(75\, 79\, 86)\; font-family:san francisco\,-apple-system\,system-ui\,.sfnstext-regular\,sans-serif\; font-size:14px">5:30-5:45 pm - Ages 1-3</span><br />\n<span style="color:rgb(75\, 79\, 86)\; font-family:san francisco\,-apple-system\,system-ui\,.sfnstext-regular\,sans-serif\; font-size:14px">5:45-6 pm - Ages 4-6</span><br />\n<span style="color:rgb(75\, 79\, 86)\; font-family:san francisco\,-apple-system\,system-ui\,.sfnstext-regular\,sans-serif\; font-size:14px">6-6:15 - Ages 7 and over</span><br />\n<br />\n<span style="color:rgb(75\, 79\, 86)\; font-family:san francisco\,-apple-system\,system-ui\,.sfnstext-regular\,sans-serif\; font-size:14px">COST: Free</span><br />\n<br />\n<span style="color:rgb(75\, 79\, 86)\; font-family:san francisco\,-apple-system\,system-ui\,.sfnstext-regular\,sans-serif\; font-size:14px">Wear swimsuits and bring goggles if needed. Bring a plastic bag to collect eggs\, which your child can exchange for candy! Kids who find a coin in their egg win a special prize! Parents much accompany children age 6 and under in pool.</span><br />\n<br />\n<span style="color:rgb(75\, 79\, 86)\; font-family:san francisco\,-apple-system\,system-ui\,.sfnstext-regular\,sans-serif\; font-size:14px">Learn more by calling Buchanan Park Rec Center\, 720-880-1100.</span>
LOCATION:Buchanan Park Recreation Center Pool
UID:e.692.21921
SEQUENCE:3
DTSTAMP:20260423T072911Z
URL:http://goconifer.chambermaster.com/events/details/eprd-s-annual-easter-egg-hunt-21921
END:VEVENT

END:VCALENDAR
