BEGIN:VCALENDAR
VERSION:2.0
PRODID:-//ChamberMaster//Event Calendar 2.0//EN
METHOD:PUBLISH
X-PUBLISHED-TTL:P3D
REFRESH-INTERVAL:P3D
CALSCALE:GREGORIAN
BEGIN:VEVENT
DTSTART:20171022T010000Z
DTEND:20171022T040000Z
X-MICROSOFT-CDO-ALLDAYEVENT:FALSE
SUMMARY:EPRD Glow Run 5K
DESCRIPTION:Join Evergreen Park & Rec District for a one-of-a-kind glow-in-the-dark park experience! This event is less about how fast you run a 5K but more about enjoying an evening with your family and friends. After the run\, enjoy caramel apples and non-alcoholic hot beverages. So put your glow gear on and join us! (Glow-in-the-dark necklaces will be provided). \n\n\n\n \n\n\n\nOctober 21\, 7-10 PM\n\n\n\nLocation: Alderfer Barn\, Alderfer/3 Sisters Park\, Park\, 30299 Buffalo Park Rd\, Evergreen\, CO 80439\,\n\n\n\nCost: $20 youth (under 18)\, $30 adult\, $60 family\n\n\n\nRegister at http://www.evergreenrecreation.com/Adult_Activities/Outdoor_Recreation/Trail_Races.htm#Glow?
X-ALT-DESC;FMTTYPE=text/html:<div>\n<div>\n<div>\n<div><span style="font-family:inherit">Join Evergreen Park &amp\; Rec District for a one-of-a-kind glow-in-the-dark park experience! This event is less about how fast you run a 5K but more about enjoying an evening with your family and friends. After the run\, enjoy caramel apples and non-alcoholic hot beverages. So put your glow gear on and join us! (Glow-in-the-dark necklaces will be provided). </span></div>\n</div>\n\n<div>\n<div>&nbsp\;</div>\n</div>\n\n<div>\n<div><span style="font-family:inherit">October 21\, 7-10 PM</span></div>\n</div>\n\n<div>\n<div><span style="font-family:inherit">Location: Alderfer Barn\, Alderfer/3 Sisters Park\, Park\,&nbsp\;</span><span style="color:rgba(0\, 0\, 0\, 0.870588)\; font-family:roboto\,arial\,sans-serif">30299 Buffalo Park Rd\, Evergreen\, CO 80439\,</span></div>\n</div>\n\n<div>\n<div><span style="font-family:inherit">Cost: $20 youth (under 18)\, $30 adult\, $60 family<br />\n<br />\nRegister at&nbsp\;</span><a href="http://www.evergreenrecreation.com/Adult_Activities/Outdoor_Recreation/Trail_Races.htm#Glow">http://www.evergreenrecreation.com/Adult_Activities/Outdoor_Recreation/Trail_Races.htm#Glow?</a></div>\n</div>\n</div>\n</div>\n
LOCATION:Alderfer Barn\, Alderfer/3 Sisters Park\, Park\, 30299 Buffalo Park Rd\, Evergreen\, CO 80439\,
UID:e.692.22102
SEQUENCE:3
DTSTAMP:20260420T083829Z
URL:http://goconifer.chambermaster.com/events/details/eprd-glow-run-5k-22102
END:VEVENT

END:VCALENDAR
