BEGIN:VCALENDAR
VERSION:2.0
PRODID:-//ChamberMaster//Event Calendar 2.0//EN
METHOD:PUBLISH
X-PUBLISHED-TTL:P3D
REFRESH-INTERVAL:P3D
CALSCALE:GREGORIAN
BEGIN:VEVENT
DTSTART:20170417T220000Z
DTEND:20170417T230000Z
X-MICROSOFT-CDO-ALLDAYEVENT:FALSE
SUMMARY:Caring for Aging Parents
DESCRIPTION:Tips to navigate the changing roles of parents and adult children\, and how to be of assistance during the aging process.\n\n\n\nPresented by Aging Wisely in the foothills
X-ALT-DESC;FMTTYPE=text/html:Tips to navigate the changing roles of parents and adult children\, and how to be of assistance during the aging process.<br />\n<br />\nPresented by <strong>Aging Wisely in the foothills</strong><br />\n<br />\n&nbsp\;
LOCATION:Conifer Community Church 9998 Havekost Rd Conifer CO 80433
UID:e.692.22085
SEQUENCE:3
DTSTAMP:20260424T013042Z
URL:http://goconifer.chambermaster.com/events/details/caring-for-aging-parents-22085
END:VEVENT

END:VCALENDAR
