BEGIN:VCALENDAR
VERSION:2.0
PRODID:-//ChamberMaster//Event Calendar 2.0//EN
METHOD:PUBLISH
X-PUBLISHED-TTL:P3D
REFRESH-INTERVAL:P3D
CALSCALE:GREGORIAN
BEGIN:VEVENT
DTSTART:20170615T173000Z
DTEND:20170615T190000Z
X-MICROSOFT-CDO-ALLDAYEVENT:FALSE
SUMMARY:10 Tips for Websites That Work!
DESCRIPTION:10 Tips for Websites That Work!\n\nLearn what essential elements your website needs to work for you!\n\n\n\nClass topics will include:\n\n\n	Target Audience - Are You Connecting?\n	Anticipating  & Meeting Your Customers Expectations\n	What's Your Website's Purpose? Education\, Sales or Something Else??\n	Content - How Much?  Are You Missing Pertinent Information??\n	What's On Your Home Page?  What Should Be There??\n	How Do You Determine a Website ROI?
X-ALT-DESC;FMTTYPE=text/html:<p><span style="color:rgb(0\, 0\, 0)"><span style="font-size:18px"><span style="font-family:arial"><strong>10 Tips for Websites That Work!</strong><br />\n<em>Learn what essential elements your website needs to work for you!</em></span></span><br />\n<br />\n<span style="font-family:arial"><span style="font-size:16px">Class topics&nbsp\;will include:</span></span></span></p>\n\n<ul>\n	<li><span style="color:rgb(0\, 0\, 0)"><em><span style="font-size:16px">Target Audience - Are You Connecting?</span></em></span></li>\n	<li><span style="color:rgb(0\, 0\, 0)"><span style="font-family:arial"><span style="font-size:16px"><em>Anticipating &nbsp\;&amp\; Meeting Your Customers Expectations</em></span></span></span></li>\n	<li><span style="color:rgb(0\, 0\, 0)"><span style="font-family:arial"><span style="font-size:16px"><em>What&#39\;s Your Website&#39\;s Purpose? Education\, Sales or Something Else??</em></span></span></span></li>\n	<li><span style="color:rgb(0\, 0\, 0)"><span style="font-family:arial"><span style="font-size:16px"><em>Content - How Much? &nbsp\;Are You Missing Pertinent Information??</em></span></span></span></li>\n	<li><span style="color:rgb(0\, 0\, 0)"><span style="font-family:arial"><span style="font-size:16px"><em>What&#39\;s On Your Home Page? &nbsp\;What Should Be There??</em></span></span></span></li>\n	<li><span style="color:rgb(0\, 0\, 0)"><span style="font-family:arial"><span style="font-size:16px"><em>How Do You&nbsp\;Determine&nbsp\;a Website ROI?</em></span></span></span></li>\n</ul>\n
LOCATION:Jeffco BRC - Conference Room 1667 Cole Blvd. Bldg. 19 - Ste. 400 Lakewood\, CO 80401
UID:e.692.24034
SEQUENCE:3
DTSTAMP:20260421T192249Z
URL:http://goconifer.chambermaster.com/events/details/10-tips-for-websites-that-work-24034
END:VEVENT

END:VCALENDAR
